BEGIN:VCALENDAR
VERSION:2.0
PRODID:-//Bella Vida - ECPv6.15.20//NONSGML v1.0//EN
CALSCALE:GREGORIAN
METHOD:PUBLISH
X-ORIGINAL-URL:https://www.bellavidasa.org
X-WR-CALDESC:Events for Bella Vida
REFRESH-INTERVAL;VALUE=DURATION:PT1H
X-Robots-Tag:noindex
X-PUBLISHED-TTL:PT1H
BEGIN:VTIMEZONE
TZID:UTC
BEGIN:STANDARD
TZOFFSETFROM:+0000
TZOFFSETTO:+0000
TZNAME:UTC
DTSTART:20250101T000000
END:STANDARD
END:VTIMEZONE
BEGIN:VEVENT
DTSTART;TZID=UTC:20260423T110000
DTEND;TZID=UTC:20260423T130000
DTSTAMP:20260421T095237
CREATED:20260402T145443Z
LAST-MODIFIED:20260408T015037Z
UID:10000118-1776942000-1776949200@www.bellavidasa.org
SUMMARY:The Financial Benefits of Independent Living with Steven Ailey
DESCRIPTION:The Financial Benefits of Independent Living with Steven Ailey\nJoin Steven Ailey\, CFO of Forefront Living\, for an exclusive presentation on the financial benefits of independent living and the advantages of choosing a Continuing Care Retirement Community (CCRC) like Bella Vida. Discover how thoughtful planning\, lifelong support\, and a vibrant community can create a secure\, worry-free retirement for San Antonio seniorsr.
URL:https://www.bellavidasa.org/event/the-benefits-of-independent-living-with-steven-ailey/
LOCATION:Maggiano’s (Rim)\, 17603 I 10\, San Antonio\, Texas\, 78257\, United States
GEO:29.6056591812;-98.601931365
X-APPLE-STRUCTURED-LOCATION;VALUE=URI;X-ADDRESS=Maggiano’s (Rim) 17603 I 10 San Antonio Texas 78257 United States;X-APPLE-RADIUS=500;X-TITLE=17603 I 10:geo:-98.601931365,29.6056591812
END:VEVENT
BEGIN:VEVENT
DTSTART;TZID=UTC:20260428T110000
DTEND;TZID=UTC:20260428T130000
DTSTAMP:20260421T095237
CREATED:20260316T060000Z
LAST-MODIFIED:20260317T182821Z
UID:10000116-1777374000-1777381200@www.bellavidasa.org
SUMMARY:Information Session & Luncheon
DESCRIPTION:Information Session & Luncheon\nJoin us on April 28th for lunch and a friendly conversation as you explore Bella Vida’s premier independent senior living community. Discover how our active adult lifestyle makes retirement easier\, more connected\, and truly enjoyable. Learn about our vibrant amenities\, wellness programs\, and how early planning can set you up for a carefree next chapter.
URL:https://www.bellavidasa.org/event/information-session-luncheon-12/
LOCATION:Bella Vida Information Center\, 4 Dominion Dr. Building 3 Suite 100\, San Antonio\, Texas\, 78257
ATTACH;FMTTYPE=image/jpeg:https://www.bellavidasa.org/wp-content/uploads/2025/04/lunchbv.jpg
GEO:29.6494025;-98.6178913
X-APPLE-STRUCTURED-LOCATION;VALUE=URI;X-ADDRESS=Bella Vida Information Center 4 Dominion Dr. Building 3 Suite 100 San Antonio Texas 78257;X-APPLE-RADIUS=500;X-TITLE=4 Dominion Dr. Building 3 Suite 100:geo:-98.6178913,29.6494025
END:VEVENT
BEGIN:VEVENT
DTSTART;TZID=UTC:20260507T110000
DTEND;TZID=UTC:20260507T130000
DTSTAMP:20260421T095237
CREATED:20260417T070032Z
LAST-MODIFIED:20260420T181713Z
UID:10000119-1778151600-1778158800@www.bellavidasa.org
SUMMARY:Start Planning Your Next Chapter | Bella Vida Lunch & Learn San Antonio
DESCRIPTION:Start Planning Your Next Chapter | Bella Vida Lunch & Learn San Antonio\nCurious about what’s next and what’s possible? Join us for an engaging Information Session & Luncheon at the Bella Vida Information Center. \nEnjoy a complimentary lunch while learning how Bella Vida is redefining retirement living in San Antonio. We’ll walk you through the benefits of Life Lease living\, what to expect from the community\, and how to plan your next chapter with clarity and confidence. \nThis is a relaxed\, no-pressure opportunity to ask questions\, explore your options\, and connect with our team.
URL:https://www.bellavidasa.org/event/information-session-luncheon/
LOCATION:Bella Vida Information Center\, 4 Dominion Dr. Building 3 Suite 100\, San Antonio\, Texas\, 78257
ATTACH;FMTTYPE=image/jpeg:https://www.bellavidasa.org/wp-content/uploads/2024/07/event-image-01.jpg
GEO:29.6494025;-98.6178913
X-APPLE-STRUCTURED-LOCATION;VALUE=URI;X-ADDRESS=Bella Vida Information Center 4 Dominion Dr. Building 3 Suite 100 San Antonio Texas 78257;X-APPLE-RADIUS=500;X-TITLE=4 Dominion Dr. Building 3 Suite 100:geo:-98.6178913,29.6494025
END:VEVENT
BEGIN:VEVENT
DTSTART;TZID=UTC:20260512T110000
DTEND;TZID=UTC:20260512T130000
DTSTAMP:20260421T095237
CREATED:20260417T070056Z
LAST-MODIFIED:20260417T175357Z
UID:10000121-1778583600-1778590800@www.bellavidasa.org
SUMMARY:Meet Bella Vida Residents at Paesano’s | San Antonio Retirement Event
DESCRIPTION:Meet Bella Vida Residents at Paesano’s | San Antonio Retirement Event\nSometimes the best way to understand a lifestyle is to hear from someone who made the decision first. \nJoin us at Paesano’s 1604 for a special luncheon with the Marshalls\, who have already chosen Bella Vida. Hear firsthand why they made the choice\, and how they’re planning for the future with confidence. \nThis intimate event offers a unique opportunity to ask candid questions\, gain real insight\, and envision what life at Bella Vida could look like for you\, all over a delicious meal in a welcoming setting.
URL:https://www.bellavidasa.org/event/meet-bella-vida-residents-at-paesanos-san-antonio-retirement-event/
LOCATION:Paesanos 1604\, Paesanos Parkway\, San Antonio\, Texas\, 78231\, United States
ATTACH;FMTTYPE=image/jpeg:https://www.bellavidasa.org/wp-content/uploads/2025/04/Cielo-9-scaled.jpg
GEO:29.6005997;-98.5535519
X-APPLE-STRUCTURED-LOCATION;VALUE=URI;X-ADDRESS=Paesanos 1604 Paesanos Parkway San Antonio Texas 78231 United States;X-APPLE-RADIUS=500;X-TITLE=Paesanos Parkway:geo:-98.5535519,29.6005997
END:VEVENT
BEGIN:VEVENT
DTSTART;TZID=UTC:20260520T130000
DTEND;TZID=UTC:20260520T150000
DTSTAMP:20260421T095237
CREATED:20260417T070016Z
LAST-MODIFIED:20260417T175458Z
UID:10000122-1779282000-1779289200@www.bellavidasa.org
SUMMARY:Bella Vida Open House | Explore Luxury Retirement Living in San Antonio
DESCRIPTION:Bella Vida Open House | Explore Luxury Retirement Living in San Antonio\nOur Open House is designed for you to explore at your own pace. Visit the Information Center\, browse floor plans\, and get a feel for the lifestyle\, amenities\, and thoughtful details that set Bella Vida apart. Tour our sample kitchen and detailed scale model while learning more about residence availability and flexible lifestyle options. \nOur team will be available to answer questions\, so you can simply drop in. Its the perfect opportunity to ask questions and explore next steps in a friendly\, welcoming setting. Reserve your seat today.
URL:https://www.bellavidasa.org/event/bella-vida-open-house-explore-luxury-retirement-living-in-san-antonio/
LOCATION:Bella Vida Information Center\, 4 Dominion Dr. Building 3 Suite 100\, San Antonio\, Texas\, 78257
ATTACH;FMTTYPE=image/jpeg:https://www.bellavidasa.org/wp-content/uploads/2026/04/2025_07-11_BV_AnimStills_001-scaled.jpg
GEO:29.6494025;-98.6178913
X-APPLE-STRUCTURED-LOCATION;VALUE=URI;X-ADDRESS=Bella Vida Information Center 4 Dominion Dr. Building 3 Suite 100 San Antonio Texas 78257;X-APPLE-RADIUS=500;X-TITLE=4 Dominion Dr. Building 3 Suite 100:geo:-98.6178913,29.6494025
END:VEVENT
BEGIN:VEVENT
DTSTART;TZID=UTC:20260528T110000
DTEND;TZID=UTC:20260528T130000
DTSTAMP:20260421T095237
CREATED:20260417T070001Z
LAST-MODIFIED:20260417T175542Z
UID:10000123-1779966000-1779973200@www.bellavidasa.org
SUMMARY:Bella Vida Information Session & Lunch | San Antonio Senior Living Event
DESCRIPTION:Bella Vida Information Session & Lunch | San Antonio Senior Living Event\nIf you’re exploring your next chapter\, this is a great place to start. \nJoin us for an Information Session & Luncheon at the Bella Vida Information Center and discover a smarter\, simpler approach to retirement living. Learn how our lock & leave lifestyle\, what makes Bella Vida unique\, and how to plan ahead with confidence. \nEnjoy a complimentary lunch while connecting with our team and getting answers to your most important questions\, all in a welcoming\, informative setting.
URL:https://www.bellavidasa.org/event/bella-vida-information-session-lunch-san-antonio-senior-living-event/
LOCATION:Bella Vida Information Center\, 4 Dominion Dr. Building 3 Suite 100\, San Antonio\, Texas\, 78257
ATTACH;FMTTYPE=image/jpeg:https://www.bellavidasa.org/wp-content/uploads/2026/01/Pages_from_2024_01-16_BVunitVillaStills_1-scaled.jpg
GEO:29.6494025;-98.6178913
X-APPLE-STRUCTURED-LOCATION;VALUE=URI;X-ADDRESS=Bella Vida Information Center 4 Dominion Dr. Building 3 Suite 100 San Antonio Texas 78257;X-APPLE-RADIUS=500;X-TITLE=4 Dominion Dr. Building 3 Suite 100:geo:-98.6178913,29.6494025
END:VEVENT
END:VCALENDAR