BEGIN:VCALENDAR
VERSION:2.0
PRODID:-//Bella Vida - ECPv6.15.20//NONSGML v1.0//EN
CALSCALE:GREGORIAN
METHOD:PUBLISH
X-ORIGINAL-URL:https://www.bellavidasa.org
X-WR-CALDESC:Events for Bella Vida
REFRESH-INTERVAL;VALUE=DURATION:PT1H
X-Robots-Tag:noindex
X-PUBLISHED-TTL:PT1H
BEGIN:VTIMEZONE
TZID:UTC
BEGIN:STANDARD
TZOFFSETFROM:+0000
TZOFFSETTO:+0000
TZNAME:UTC
DTSTART:20240101T000000
END:STANDARD
END:VTIMEZONE
BEGIN:VEVENT
DTSTART;TZID=UTC:20260123T110000
DTEND;TZID=UTC:20260123T130000
DTSTAMP:20260421T123740
CREATED:20251210T174732Z
LAST-MODIFIED:20251211T152707Z
UID:10000103-1769166000-1769173200@www.bellavidasa.org
SUMMARY:Jan. 23 Explore Independent Senior Living in San Antonio
DESCRIPTION:Information Session & Luncheon at The Bevy Hotel in Boerne\nDiscover Bella Vida at our January 23 event at The Bevy Hotel in Boerne. Join us for an informative luncheon and learn how our independent senior living community blends comfort\, connection\, and convenience in the heart of San Antonio. Enjoy a complimentary meal\, hear the latest construction updates\, and see why so many active adults are choosing Bella Vida as their next home. Seats fill quickly\, so reserve yours today.
URL:https://www.bellavidasa.org/event/jan-23-information-session-luncheon-at-bevy/
LOCATION:The Bevy Hotel Boerne\, 101 Herff Rd.\, Boerne\, TX\, 78006\, United States
ATTACH;FMTTYPE=image/jpeg:https://www.bellavidasa.org/wp-content/uploads/2025/11/bvstill.jpg
END:VEVENT
BEGIN:VEVENT
DTSTART;TZID=UTC:20260113T110000
DTEND;TZID=UTC:20260113T130000
DTSTAMP:20260421T123740
CREATED:20251210T173151Z
LAST-MODIFIED:20251211T152641Z
UID:10000102-1768302000-1768309200@www.bellavidasa.org
SUMMARY:Jan. 13 Planning Your Future with Bella Vida
DESCRIPTION:Information Session & Luncheon at Bella Vida Information Center\nJoin us at the Bella Vida Information Center on January 13 to explore San Antonio’s newest independent senior living community. Learn about floor plans\, amenities\, and VIP benefits while meeting the team and future residents. This event offers a welcoming\, informative introduction to Bella Vida’s vibrant lifestyle. Reserve your place while seats are available.
URL:https://www.bellavidasa.org/event/jan-13-event/
LOCATION:Bella Vida Information Center\, 4 Dominion Dr. Building 3 Suite 100\, San Antonio\, Texas\, 78257
ATTACH;FMTTYPE=image/jpeg:https://www.bellavidasa.org/wp-content/uploads/2023/07/event_image1.jpg
GEO:29.6494025;-98.6178913
X-APPLE-STRUCTURED-LOCATION;VALUE=URI;X-ADDRESS=Bella Vida Information Center 4 Dominion Dr. Building 3 Suite 100 San Antonio Texas 78257;X-APPLE-RADIUS=500;X-TITLE=4 Dominion Dr. Building 3 Suite 100:geo:-98.6178913,29.6494025
END:VEVENT
BEGIN:VEVENT
DTSTART;TZID=UTC:20251216T100000
DTEND;TZID=UTC:20251216T120000
DTSTAMP:20260421T123740
CREATED:20251119T123448Z
LAST-MODIFIED:20251211T223815Z
UID:10000101-1765879200-1765886400@www.bellavidasa.org
SUMMARY:Dec. 16 Discover Bella Vida - San Antonio's Newest Retirement Community
DESCRIPTION:Discover Bella Vida – San Antonio’s Newest Retirement Community\nEnjoy lunch and friendly conversation at our education session. This relaxed morning gathering is an excellent way to explore Bella Vida’s independent senior living lifestyle\, ask questions\, and see how early planning can simplify your future. Learn about modern residences\, personalized services\, and the benefits of joining a community designed to support lifelong freedom and connection. Seats are limited. RSVP today to attend!
URL:https://www.bellavidasa.org/event/dec-16/
LOCATION:Bella Vida Information Center\, 4 Dominion Dr. Building 3 Suite 100\, San Antonio\, Texas\, 78257
ATTACH;FMTTYPE=image/jpeg:https://www.bellavidasa.org/wp-content/uploads/2025/11/bvstill.jpg
GEO:29.6494025;-98.6178913
X-APPLE-STRUCTURED-LOCATION;VALUE=URI;X-ADDRESS=Bella Vida Information Center 4 Dominion Dr. Building 3 Suite 100 San Antonio Texas 78257;X-APPLE-RADIUS=500;X-TITLE=4 Dominion Dr. Building 3 Suite 100:geo:-98.6178913,29.6494025
END:VEVENT
BEGIN:VEVENT
DTSTART;TZID=UTC:20251212T110000
DTEND;TZID=UTC:20251212T130000
DTSTAMP:20260421T123740
CREATED:20251119T122948Z
LAST-MODIFIED:20251211T152556Z
UID:10000100-1765537200-1765544400@www.bellavidasa.org
SUMMARY:Dec. 12 Senior Living Information Session at Bella Vida
DESCRIPTION:Information Session & Luncheon\nJoin us for a luncheon at the Bella Vida Information Center and learn why today’s retirees are choosing Bella Vida for a more connected\, maintenance-free future. Explore beautifully designed residences\, flexible service options\, and the benefits of joining early\, including future-focused planning and exclusive construction updates. This event offers a welcoming\, informative introduction to Bella Vida’s vibrant lifestyle. Reserve your place while seats are available.
URL:https://www.bellavidasa.org/event/dec-12-information-session-luncheon-at-bella-vida-information-center/
LOCATION:Bella Vida Information Center\, 4 Dominion Dr. Building 3 Suite 100\, San Antonio\, Texas\, 78257
ATTACH;FMTTYPE=image/jpeg:https://www.bellavidasa.org/wp-content/uploads/2025/04/Birds_Eye_View_Rendering_11.16.23-scaled.jpg
GEO:29.6494025;-98.6178913
X-APPLE-STRUCTURED-LOCATION;VALUE=URI;X-ADDRESS=Bella Vida Information Center 4 Dominion Dr. Building 3 Suite 100 San Antonio Texas 78257;X-APPLE-RADIUS=500;X-TITLE=4 Dominion Dr. Building 3 Suite 100:geo:-98.6178913,29.6494025
END:VEVENT
BEGIN:VEVENT
DTSTART;TZID=UTC:20251209T110000
DTEND;TZID=UTC:20251209T130000
DTSTAMP:20260421T123740
CREATED:20251119T122806Z
LAST-MODIFIED:20251119T122806Z
UID:10000099-1765278000-1765285200@www.bellavidasa.org
SUMMARY:Dec. 9 Information Session & Luncheon at Bella Vida Information Center
DESCRIPTION:Information Session & Luncheon\nEnjoy a delicious luncheon at the Bella Vida Information Center and get an in-depth look at San Antonio’s newest independent senior living community. Learn how Bella Vida blends thoughtful planning\, modern amenities\, and engaging lifestyle programming to help you live beautifully and confidently. Our team will walk you through current offerings\, construction progress\, and the many advantages of planning ahead. Space is limited. RSVP today to secure your seat!
URL:https://www.bellavidasa.org/event/dec-9-information-session-luncheon-at-bella-vida-information-center/
LOCATION:Bella Vida Information Center\, 4 Dominion Dr. Building 3 Suite 100\, San Antonio\, Texas\, 78257
ATTACH;FMTTYPE=image/jpeg:https://www.bellavidasa.org/wp-content/uploads/2025/02/Eventimage-update.jpg
GEO:29.6494025;-98.6178913
X-APPLE-STRUCTURED-LOCATION;VALUE=URI;X-ADDRESS=Bella Vida Information Center 4 Dominion Dr. Building 3 Suite 100 San Antonio Texas 78257;X-APPLE-RADIUS=500;X-TITLE=4 Dominion Dr. Building 3 Suite 100:geo:-98.6178913,29.6494025
END:VEVENT
BEGIN:VEVENT
DTSTART;TZID=UTC:20251206T090000
DTEND;TZID=UTC:20251206T110000
DTSTAMP:20260421T123740
CREATED:20251119T120627Z
LAST-MODIFIED:20251119T203545Z
UID:10000098-1765011600-1765018800@www.bellavidasa.org
SUMMARY:Dec. 6 Breakfast at the Bella Vida Information Center
DESCRIPTION:Breakfast at the Bella Vida Information Center\nStart your morning with a warm\, welcoming breakfast and learn about Bella Vida\, San Antonio’s newest independent senior living community designed for carefree living. Discover how thoughtful planning\, modern residences\, and personalized services can help you enjoy the retirement lifestyle you’ve always envisioned. This relaxed event is the perfect opportunity to ask questions and explore next steps in a friendly\, relaxed setting. Reserve your seat today. \n 
URL:https://www.bellavidasa.org/event/dec-6-breakfast-in-boerne-at-bella-vida-information-center/
LOCATION:Bella Vida Information Center\, 4 Dominion Dr. Building 3 Suite 100\, San Antonio\, Texas\, 78257
ATTACH;FMTTYPE=image/jpeg:https://www.bellavidasa.org/wp-content/uploads/2025/05/2024_01-29_Exteriors_Page_5-scaled.jpg
GEO:29.6494025;-98.6178913
X-APPLE-STRUCTURED-LOCATION;VALUE=URI;X-ADDRESS=Bella Vida Information Center 4 Dominion Dr. Building 3 Suite 100 San Antonio Texas 78257;X-APPLE-RADIUS=500;X-TITLE=4 Dominion Dr. Building 3 Suite 100:geo:-98.6178913,29.6494025
END:VEVENT
BEGIN:VEVENT
DTSTART;TZID=UTC:20251120T100000
DTEND;TZID=UTC:20251120T120000
DTSTAMP:20260421T123740
CREATED:20251110T162147Z
LAST-MODIFIED:20251119T094057Z
UID:10000097-1763632800-1763640000@www.bellavidasa.org
SUMMARY:Nov. 20 Cookies & Coffee at Bella Vida Information Center
DESCRIPTION:Cookies & Coffee\nJoin us for coffee\, cookies\, and an information session to discover how early retirement planning can bring lasting peace of mind. Learn how taking small steps today can help you live the lifestyle you want tomorrow\, free from worry and full of possibility. Don’t wait to start shaping your future. Come connect\, plan\, and feel confident about what’s ahead at Bella Vida\, San Antonio’s newest retirement living community.
URL:https://www.bellavidasa.org/event/nov-20-cookies-coffee-at-bella-vida-information-center/
LOCATION:Bella Vida Information Center\, 4 Dominion Dr. Building 3 Suite 100\, San Antonio\, Texas\, 78257
ATTACH;FMTTYPE=image/jpeg:https://www.bellavidasa.org/wp-content/uploads/2025/07/Pages_from_2024_01-29_Exteriors-scaled.jpg
GEO:29.6494025;-98.6178913
X-APPLE-STRUCTURED-LOCATION;VALUE=URI;X-ADDRESS=Bella Vida Information Center 4 Dominion Dr. Building 3 Suite 100 San Antonio Texas 78257;X-APPLE-RADIUS=500;X-TITLE=4 Dominion Dr. Building 3 Suite 100:geo:-98.6178913,29.6494025
END:VEVENT
BEGIN:VEVENT
DTSTART;TZID=UTC:20251118T110000
DTEND;TZID=UTC:20251118T130000
DTSTAMP:20260421T123740
CREATED:20251015T060014Z
LAST-MODIFIED:20251110T181143Z
UID:10000096-1763463600-1763470800@www.bellavidasa.org
SUMMARY:Lunch & Info Session with Future Residents: Cody & Kathy - FULL
DESCRIPTION:Discover the beautiful life waiting for you at Bella Vida.\nJoin us at Bourbon Street Seafood Kitchen for an informative luncheon and meet future residents of Bella Vida to ask your questions and learn how our independent senior living community blends comfort\, connection\, and convenience in the heart of San Antonio.
URL:https://www.bellavidasa.org/event/information-session-nov18/
LOCATION:Bourbon Street Seafood Kitchen IH-10\, 22015 Interstate 10\, San Antonio\, TX\, 78257\, United States
ATTACH;FMTTYPE=image/png:https://www.bellavidasa.org/wp-content/uploads/2025/10/Screenshot-2025-10-20-at-11.28.27-AM.png
END:VEVENT
BEGIN:VEVENT
DTSTART;TZID=UTC:20251113T110000
DTEND;TZID=UTC:20251113T130000
DTSTAMP:20260421T123740
CREATED:20251015T060022Z
LAST-MODIFIED:20251110T162554Z
UID:10000095-1763031600-1763038800@www.bellavidasa.org
SUMMARY:Nov. 13 Information Session & Luncheon at Bella Vida Information Center
DESCRIPTION:Information Session & Luncheon\nJoin us for an engaging luncheon at the Bella Vida Information Center\, where you can explore what modern retirement living looks like. Discover beautifully designed residences\, personalized services\, and special construction pricing available for a limited time. Learn how Bella Vida makes it easier and more enjoyable to plan for your future. Seats fill up quickly\, so be sure to reserve yours today.
URL:https://www.bellavidasa.org/event/information-session-nov13/
LOCATION:Bella Vida Information Center\, 4 Dominion Dr. Building 3 Suite 100\, San Antonio\, Texas\, 78257
ATTACH;FMTTYPE=image/jpeg:https://www.bellavidasa.org/wp-content/uploads/2025/07/Pages_from_2024_01-29_Exteriors-scaled.jpg
GEO:29.6494025;-98.6178913
X-APPLE-STRUCTURED-LOCATION;VALUE=URI;X-ADDRESS=Bella Vida Information Center 4 Dominion Dr. Building 3 Suite 100 San Antonio Texas 78257;X-APPLE-RADIUS=500;X-TITLE=4 Dominion Dr. Building 3 Suite 100:geo:-98.6178913,29.6494025
END:VEVENT
BEGIN:VEVENT
DTSTART;TZID=UTC:20251106T110000
DTEND;TZID=UTC:20251106T130000
DTSTAMP:20260421T123740
CREATED:20251015T060012Z
LAST-MODIFIED:20251104T182005Z
UID:10000094-1762426800-1762434000@www.bellavidasa.org
SUMMARY:Information Session & Luncheon at Alamo Cafe
DESCRIPTION:Information Session & Luncheon\nJoin us on November 6 at Alamo Café for a complimentary luncheon and presentation about Bella Vida’s vibrant independent senior living lifestyle in San Antonio.
URL:https://www.bellavidasa.org/event/information-session-nov6/
LOCATION:Alamo Cafe\, 14250 San Pedro Ave.\, TX\, 78232\, United States
ATTACH;FMTTYPE=image/jpeg:https://www.bellavidasa.org/wp-content/uploads/2025/02/Eventimage-update.jpg
END:VEVENT
BEGIN:VEVENT
DTSTART;TZID=UTC:20251031T110000
DTEND;TZID=UTC:20251031T130000
DTSTAMP:20260421T123740
CREATED:20251015T060056Z
LAST-MODIFIED:20251024T162936Z
UID:10000093-1761908400-1761915600@www.bellavidasa.org
SUMMARY:Oct. 31 Information Session & Luncheon at Bella Vida Information Center
DESCRIPTION:Information Session & Luncheon\nEnjoy a delicious lunch and get an inside look at San Antonio’s newest independent senior living community. This exclusive Information Session & Luncheon will introduce you to Bella Vida’s modern residences\, maintenance-free lifestyle\, and flexible services\, all designed to help you live beautifully. Due to limited spaces\, RSVP today to start your next chapter!
URL:https://www.bellavidasa.org/event/information-session-oct31/
LOCATION:Bella Vida Information Center\, 4 Dominion Dr. Building 3 Suite 100\, San Antonio\, Texas\, 78257
ATTACH;FMTTYPE=image/jpeg:https://www.bellavidasa.org/wp-content/uploads/2025/07/Pages_from_2024_01-29_Exteriors-scaled.jpg
GEO:29.6494025;-98.6178913
X-APPLE-STRUCTURED-LOCATION;VALUE=URI;X-ADDRESS=Bella Vida Information Center 4 Dominion Dr. Building 3 Suite 100 San Antonio Texas 78257;X-APPLE-RADIUS=500;X-TITLE=4 Dominion Dr. Building 3 Suite 100:geo:-98.6178913,29.6494025
END:VEVENT
BEGIN:VEVENT
DTSTART;TZID=UTC:20251022T110000
DTEND;TZID=UTC:20251022T130000
DTSTAMP:20260421T123740
CREATED:20250919T142636Z
LAST-MODIFIED:20251024T172527Z
UID:10000091-1761130800-1761138000@www.bellavidasa.org
SUMMARY:Information Session & Luncheon at The Kendall in Boerne\, TX
DESCRIPTION:Information Session & Luncheon\nEnjoy a relaxing fall luncheon at The Kendall Inn\, catered by Peggy’s on the Green\, and discover how Bella Vida is redefining independent senior living for Boerne and the surrounding Hill Country. Learn about our upscale amenities\, personalized services\, and limited-time construction pricing. Bring a friend and your questions! We look forward to seeing you.
URL:https://www.bellavidasa.org/event/information-session-luncheon-bella-vida-information-center-3/
LOCATION:The Kendall\, 128 W Blanco Rd.\, Boerne\, TX\, 78006\, United States
ATTACH;FMTTYPE=image/jpeg:https://www.bellavidasa.org/wp-content/uploads/2025/09/1_-_peggys1-1-scaled.jpg
END:VEVENT
END:VCALENDAR