BEGIN:VCALENDAR
VERSION:2.0
PRODID:-//Bella Vida - ECPv6.15.20//NONSGML v1.0//EN
CALSCALE:GREGORIAN
METHOD:PUBLISH
X-ORIGINAL-URL:https://www.bellavidasa.org
X-WR-CALDESC:Events for Bella Vida
REFRESH-INTERVAL;VALUE=DURATION:PT1H
X-Robots-Tag:noindex
X-PUBLISHED-TTL:PT1H
BEGIN:VTIMEZONE
TZID:UTC
BEGIN:STANDARD
TZOFFSETFROM:+0000
TZOFFSETTO:+0000
TZNAME:UTC
DTSTART:20250101T000000
END:STANDARD
END:VTIMEZONE
BEGIN:VEVENT
DTSTART;TZID=UTC:20260123T110000
DTEND;TZID=UTC:20260123T130000
DTSTAMP:20260421T174111
CREATED:20251210T174732Z
LAST-MODIFIED:20251211T152707Z
UID:10000103-1769166000-1769173200@www.bellavidasa.org
SUMMARY:Jan. 23 Explore Independent Senior Living in San Antonio
DESCRIPTION:Information Session & Luncheon at The Bevy Hotel in Boerne\nDiscover Bella Vida at our January 23 event at The Bevy Hotel in Boerne. Join us for an informative luncheon and learn how our independent senior living community blends comfort\, connection\, and convenience in the heart of San Antonio. Enjoy a complimentary meal\, hear the latest construction updates\, and see why so many active adults are choosing Bella Vida as their next home. Seats fill quickly\, so reserve yours today.
URL:https://www.bellavidasa.org/event/jan-23-information-session-luncheon-at-bevy/
LOCATION:The Bevy Hotel Boerne\, 101 Herff Rd.\, Boerne\, TX\, 78006\, United States
ATTACH;FMTTYPE=image/jpeg:https://www.bellavidasa.org/wp-content/uploads/2025/11/bvstill.jpg
END:VEVENT
END:VCALENDAR